BEGIN:VCALENDAR
PRODID:-//eluceo/ical//2.0/EN
VERSION:2.0
CALSCALE:GREGORIAN
BEGIN:VEVENT
UID:1f770eaf784afcb18d8ecb7e63b01cd5
DTSTAMP:20260424T103837Z
SUMMARY:Participation lutte contre la polio 2019
DESCRIPTION:Les clubs de Brest et de Landerneau ainsi que le Rotaract Brest
  Grand-Large se mobilisent pour cette vente.\n\n15 euros la boîte de 25 b
 ulbes\n\n1 euro versé = 2 vaccins financés\nConférencier(s): Vente de t
 ulipes
URL:https://brest.rotary-bretagne-mayenne.org/fr/agenda/show/17957
DTSTART;TZID=Europe/Zurich:20191026T100000
DTEND;TZID=Europe/Zurich:20191026T180000
LOCATION:Parvis de la librairie DIALOGUES\, rue de Siam\, Brest
CATEGORIES:Rotary
END:VEVENT
BEGIN:VTIMEZONE
TZID:Europe/Zurich
BEGIN:DAYLIGHT
DTSTART:20191026T100000
TZNAME:CEST
TZOFFSETTO:+0200
TZOFFSETFROM:+0200
END:DAYLIGHT
END:VTIMEZONE
END:VCALENDAR
