BEGIN:VCALENDAR
PRODID:-//eluceo/ical//2.0/EN
VERSION:2.0
CALSCALE:GREGORIAN
BEGIN:VEVENT
UID:326132705ca38343549b90892fa4b151
DTSTAMP:20260424T084644Z
SUMMARY:Apéritif mardi 16 avril 2019
DESCRIPTION:Nous ferons la connaissance mardi prochain 16 avril\, à 19h15\
 , de monsieur Joseph Prigent\, famille d'accueil Handi'chiens\, et de OBER
 \, le joli toutou né en décembre 2018 et éduqué par Joseph. L'éducati
 on de ce jeune chien est parrainée par le Rotary Club de Brest et par le 
 Rotaract Brest-Grand-Large qui contribue à hauteur de sa valeur d'achat.\
 n\nPour l'occasion\, le Rotaract est invité à se joindre à nous.\n\nMa
 dame Claudine Pouliquen\, elle aussi famille d'accueil Handi'chiens et enc
 adrante de 4 familles\, accompagnera Joseph\; elle sera avec "son" chien 
 Nanouk. Pour Joseph\, il s'agit de sa première expérience de famille d'a
 ccueil et nous espérons qu'il passera un agréable moment en notre compag
 nie.\nSite internet: http://rotary.brest@orange.fr
URL:https://brest.rotary-bretagne-mayenne.org/fr/agenda/show/15755
DTSTART;TZID=Europe/Zurich:20190416T191500
DTEND;TZID=Europe/Zurich:20190416T210000
LOCATION:Hôtel Océania
CATEGORIES:Rotary
END:VEVENT
BEGIN:VTIMEZONE
TZID:Europe/Zurich
BEGIN:DAYLIGHT
DTSTART:20190416T191500
TZNAME:CEST
TZOFFSETTO:+0200
TZOFFSETFROM:+0200
END:DAYLIGHT
END:VTIMEZONE
END:VCALENDAR
